BEGIN:VCALENDAR
VERSION:2.0
PRODID:-//Bout Time Pub &amp; Grub - ECPv6.15.20//NONSGML v1.0//EN
CALSCALE:GREGORIAN
METHOD:PUBLISH
X-WR-CALNAME:Bout Time Pub &amp; Grub
X-ORIGINAL-URL:https://www.bouttimepub.com
X-WR-CALDESC:Events for Bout Time Pub &amp; Grub
REFRESH-INTERVAL;VALUE=DURATION:PT1H
X-Robots-Tag:noindex
X-PUBLISHED-TTL:PT1H
BEGIN:VTIMEZONE
TZID:America/Denver
BEGIN:DAYLIGHT
TZOFFSETFROM:-0700
TZOFFSETTO:-0600
TZNAME:MDT
DTSTART:20220313T090000
END:DAYLIGHT
BEGIN:STANDARD
TZOFFSETFROM:-0600
TZOFFSETTO:-0700
TZNAME:MST
DTSTART:20221106T080000
END:STANDARD
BEGIN:DAYLIGHT
TZOFFSETFROM:-0700
TZOFFSETTO:-0600
TZNAME:MDT
DTSTART:20230312T090000
END:DAYLIGHT
BEGIN:STANDARD
TZOFFSETFROM:-0600
TZOFFSETTO:-0700
TZNAME:MST
DTSTART:20231105T080000
END:STANDARD
BEGIN:DAYLIGHT
TZOFFSETFROM:-0700
TZOFFSETTO:-0600
TZNAME:MDT
DTSTART:20240310T090000
END:DAYLIGHT
BEGIN:STANDARD
TZOFFSETFROM:-0600
TZOFFSETTO:-0700
TZNAME:MST
DTSTART:20241103T080000
END:STANDARD
END:VTIMEZONE
BEGIN:VEVENT
DTSTART;TZID=America/Denver:20230212T163000
DTEND;TZID=America/Denver:20230212T233000
DTSTAMP:20260424T034226
CREATED:20231219T185623Z
LAST-MODIFIED:20231219T185624Z
UID:1134-1676219400-1676244600@www.bouttimepub.com
SUMMARY:Big Game Sunday ($10)
DESCRIPTION:Our biggest private party of the year. Tickets must be purchased in-store\, make sure to get tickets in advance. \n$10 to reserve a seat. All-you-can-eat appetizer bar\, shot and beer features\, free Super Bowl Square boards\, Swag and Prize giveaways. \n 
URL:https://www.bouttimepub.com/event/big-game-sunday-2-2/
CATEGORIES:Ogden,West Valley
ATTACH;FMTTYPE=image/png:https://www.bouttimepub.com/wp-content/uploads/2022/11/Bout-time-website-graphic.png
END:VEVENT
END:VCALENDAR